BEGIN:VCALENDAR
VERSION:2.0
PRODID:icalendar-ruby
CALSCALE:GREGORIAN
METHOD:PUBLISH
BEGIN:VEVENT
DTSTAMP:20260420T020740Z
UID:15-228594@explorelifechurch.ca
DTSTART:20260423T003000Z
DTEND:20260423T020000Z
CLASS:PUBLIC
CREATED:20260419T105551
DESCRIPTION:
LAST-MODIFIED:20260419T105551
LOCATION:21307 98Ave NW\, Edmonton AB\, T5T 5X8
SUMMARY:Praying with Purpose
URL;VALUE=URI:https://www.explorelifechurch.ca/events/praying-with-purpose/
 2026-04-22
ATTACH;FILENAME=Come-pray-with-us.png;FMTTYPE=image/png:https://dq5pwpg1q8r
 u0.cloudfront.net/2026/04/19/16/55/50/53f011a7-48f7-4908-82e2-a1d71e217f1d
 /Come-pray-with-us.png
END:VEVENT
END:VCALENDAR
